BEGIN:VCALENDAR
VERSION:2.0
PRODID:-//Squarespace Inc/Squarespace 6//v6//EN
BEGIN:VEVENT
UID:5a57d727f9619a7a6de4618b@squarespace.com
DTSTAMP:20180111T214947Z
DTSTART:20180216T190000Z
DTEND:20180216T210000Z
SUMMARY:Kurow District Flower and Produce Show
END:VEVENT
END:VCALENDAR
