BEGIN:VCALENDAR
VERSION:2.0
PRODID:-//Squarespace Inc/Squarespace 6//v6//EN
BEGIN:VEVENT
UID:5a1f4921e4966bb1ff16e199@squarespace.com
DTSTAMP:20171129T235737Z
DTSTART:20180109T180000Z
DTEND:20180109T193000Z
SUMMARY:Kurow Library
END:VEVENT
END:VCALENDAR
