BEGIN:VCALENDAR
VERSION:2.0
PRODID:-//Squarespace Inc/Squarespace 6//v6//EN
BEGIN:VEVENT
UID:5a162fef085229dccc210d0a@squarespace.com
DTSTAMP:20171123T022331Z
DTSTART:20180108T000000Z
DTEND:20180108T010000Z
SUMMARY:Kurow Bridge Tournament
END:VEVENT
END:VCALENDAR
