BEGIN:VCALENDAR
VERSION:2.0
PRODID:-//Squarespace Inc/Squarespace 6//v6//EN
BEGIN:VEVENT
UID:5a209224419202d582a13cb7@squarespace.com
DTSTAMP:20171130T232057Z
DTSTART:20180106T153000Z
DTEND:20180106T170000Z
SUMMARY:Otematata Library - Open
END:VEVENT
END:VCALENDAR
