BEGIN:VCALENDAR
VERSION:2.0
PRODID:-//Squarespace Inc/Squarespace 6//v6//EN
BEGIN:VEVENT
UID:5a4d3acfec212d73fba9c6e2@squarespace.com
DTSTAMP:20180103T202455Z
DTSTART:20180106T170000Z
DTEND:20180106T220000Z
SUMMARY:Omarama Golf Club New Year Tournament
END:VEVENT
END:VCALENDAR
