BEGIN:VCALENDAR
VERSION:2.0
PRODID:-//Squarespace Inc/Squarespace 6//v6//EN
BEGIN:VEVENT
UID:5a1f4827419202aafc7d340a@squarespace.com
DTSTAMP:20171129T235311Z
DTSTART:20180106T153000Z
DTEND:20180106T170000Z
SUMMARY:Kurow Library
END:VEVENT
END:VCALENDAR
