BEGIN:VCALENDAR
VERSION:2.0
PRODID:-//Squarespace Inc/Squarespace 6//v6//EN
BEGIN:VEVENT
UID:5a2091eb9140b77b549016a6@squarespace.com
DTSTAMP:20171130T231956Z
DTSTART:20180105T193000Z
DTEND:20180105T203000Z
SUMMARY:Otematata Library - Open
END:VEVENT
END:VCALENDAR
