BEGIN:VCALENDAR
VERSION:2.0
PRODID:-//Squarespace Inc/Squarespace 6//v6//EN
BEGIN:VEVENT
UID:5a2091ba9140b77b54900d31@squarespace.com
DTSTAMP:20171130T231859Z
DTSTART:20180104T193000Z
DTEND:20180104T203000Z
SUMMARY:Otematata Library - Open
END:VEVENT
END:VCALENDAR
