BEGIN:VCALENDAR
VERSION:2.0
PRODID:-//Squarespace Inc/Squarespace 6//v6//EN
BEGIN:VEVENT
UID:5a32d98ff9619a50c0ae76e8@squarespace.com
DTSTAMP:20171214T200721Z
DTSTART:20180105T000000Z
DTEND:20180105T030000Z
SUMMARY:Family Quiz Night - Otematata Club
END:VEVENT
END:VCALENDAR
