BEGIN:VCALENDAR
VERSION:2.0
PRODID:-//Squarespace Inc/Squarespace 6//v6//EN
BEGIN:VEVENT
UID:5a330c6024a6949ae390a7ce@squarespace.com
DTSTAMP:20171214T234456Z
DTSTART:20180131T140000Z
DTEND:20180131T200000Z
SUMMARY:Waitaki Valley School Re-opens
END:VEVENT
END:VCALENDAR
