BEGIN:VCALENDAR
VERSION:2.0
PRODID:-//Squarespace Inc/Squarespace 6//v6//EN
BEGIN:VEVENT
UID:5a567b0924a694f00f2e0642@squarespace.com
DTSTAMP:20180110T204531Z
DTSTART:20180123T183000Z
DTEND:20180123T193000Z
SUMMARY:Kurow Junior Tennis Club AGM
END:VEVENT
END:VCALENDAR
