BEGIN:VCALENDAR
VERSION:2.0
PRODID:-//Squarespace Inc/Squarespace 6//v6//EN
BEGIN:VEVENT
UID:5a1f48c38165f5ee9e44fccc@squarespace.com
DTSTAMP:20171129T235540Z
DTSTART:20180120T153000Z
DTEND:20180120T170000Z
SUMMARY:Kurow Library
END:VEVENT
END:VCALENDAR
