BEGIN:VCALENDAR
VERSION:2.0
PRODID:-//Squarespace Inc/Squarespace 6//v6//EN
BEGIN:VEVENT
UID:5a385ea541920241ebd4025e@squarespace.com
DTSTAMP:20171219T004812Z
DTSTART:20180102T153000Z
DTEND:20180102T163000Z
SUMMARY:Festival Claybird Shoot
END:VEVENT
END:VCALENDAR
