BEGIN:VCALENDAR
VERSION:2.0
PRODID:-//Squarespace Inc/Squarespace 6//v6//EN
BEGIN:VEVENT
UID:5a1f4a099140b75e12b46191@squarespace.com
DTSTAMP:20171130T000101Z
DTSTART:20180118T180000Z
DTEND:20180118T193000Z
SUMMARY:Kurow Library
END:VEVENT
END:VCALENDAR
