BEGIN:VCALENDAR
VERSION:2.0
PRODID:-//Squarespace Inc/Squarespace 6//v6//EN
BEGIN:VEVENT
UID:5a1f49d29140b75e12b45781@squarespace.com
DTSTAMP:20171130T000000Z
DTSTART:20180116T180000Z
DTEND:20180116T193000Z
SUMMARY:Kurow Library
END:VEVENT
END:VCALENDAR
