BEGIN:VCALENDAR
VERSION:2.0
PRODID:-//Squarespace Inc/Squarespace 6//v6//EN
BEGIN:VEVENT
UID:5a1f4870085229745eed9ffb@squarespace.com
DTSTAMP:20171129T235408Z
DTSTART:20180113T153000Z
DTEND:20180113T170000Z
SUMMARY:Kurow Library
END:VEVENT
END:VCALENDAR
