BEGIN:VCALENDAR
VERSION:2.0
PRODID:-//Squarespace Inc/Squarespace 6//v6//EN
BEGIN:VEVENT
UID:5a1f497be4966bb1ff16f0be@squarespace.com
DTSTAMP:20171129T235859Z
DTSTART:20180111T180000Z
DTEND:20180111T193000Z
SUMMARY:Kurow Library
END:VEVENT
END:VCALENDAR
