BEGIN:VCALENDAR
VERSION:2.0
PRODID:-//Squarespace Inc/Squarespace 6//v6//EN
BEGIN:VEVENT
UID:5a00df53e4966b6353097288@squarespace.com
DTSTAMP:20171106T221920Z
DTSTART:20180101T150000Z
DTEND:20180101T200000Z
SUMMARY:Kurow Market Day
END:VEVENT
END:VCALENDAR
