BEGIN:VCALENDAR
VERSION:2.0
PRODID:-//Squarespace Inc/Squarespace 6//v6//EN
BEGIN:VEVENT
UID:5a330e9d652dea7bc2a6ba25@squarespace.com
DTSTAMP:20171214T235415Z
DTSTART:20180101T000000Z
DTEND:20180101T070000Z
SUMMARY:Karaoke at Kurow Hotel
END:VEVENT
END:VCALENDAR
