BEGIN:VCALENDAR
VERSION:2.0
PRODID:-//Squarespace Inc/Squarespace 6//v6//EN
BEGIN:VEVENT
UID:5a208312652deaf7d7ae0d21@squarespace.com
DTSTAMP:20171130T221712Z
DTSTART:20171230T153000Z
DTEND:20171230T170000Z
SUMMARY:Otematata Library - Open
END:VEVENT
END:VCALENDAR
