BEGIN:VCALENDAR
VERSION:2.0
PRODID:-//Squarespace Inc/Squarespace 6//v6//EN
BEGIN:VEVENT
UID:5a330e168165f5e58a2d4ce8@squarespace.com
DTSTAMP:20171214T235131Z
DTSTART:20171231T000000Z
DTEND:20171231T070000Z
SUMMARY:Live Band at Waitaki Hotel
END:VEVENT
END:VCALENDAR
