BEGIN:VCALENDAR
VERSION:2.0
PRODID:-//Squarespace Inc/Squarespace 6//v6//EN
BEGIN:VEVENT
UID:5a330d26085229e36d8d2a22@squarespace.com
DTSTAMP:20171214T234933Z
DTSTART:20171231T000000Z
DTEND:20171231T070000Z
SUMMARY:Live Band at Kurow Hotel
END:VEVENT
END:VCALENDAR
