BEGIN:VCALENDAR
VERSION:2.0
PRODID:-//Squarespace Inc/Squarespace 6//v6//EN
BEGIN:VEVENT
UID:5a1f5b988165f5ee9e48525a@squarespace.com
DTSTAMP:20171130T011833Z
DTSTART:20171230T150000Z
DTEND:20171230T220000Z
SUMMARY:Kurow Races
END:VEVENT
END:VCALENDAR
