BEGIN:VCALENDAR
VERSION:2.0
PRODID:-//Squarespace Inc/Squarespace 6//v6//EN
BEGIN:VEVENT
UID:5a1f47e69140b75e12b3fb27@squarespace.com
DTSTAMP:20171129T235157Z
DTSTART:20171230T153000Z
DTEND:20171230T170000Z
SUMMARY:Kurow Library
END:VEVENT
END:VCALENDAR
