BEGIN:VCALENDAR
VERSION:2.0
PRODID:-//Squarespace Inc/Squarespace 6//v6//EN
BEGIN:VEVENT
UID:5a2082e60d9297f9736b4109@squarespace.com
DTSTAMP:20171130T221533Z
DTSTART:20171229T193000Z
DTEND:20171229T203000Z
SUMMARY:Otematata Library - Open
END:VEVENT
END:VCALENDAR
