BEGIN:VCALENDAR
VERSION:2.0
PRODID:-//Squarespace Inc/Squarespace 6//v6//EN
BEGIN:VEVENT
UID:5a32da8a085229fa6e9297d7@squarespace.com
DTSTAMP:20171214T201337Z
DTSTART:20171229T143000Z
DTEND:20171229T170000Z
SUMMARY:Book and Puzzle Sale Otematata
END:VEVENT
END:VCALENDAR
