BEGIN:VCALENDAR
VERSION:2.0
PRODID:-//Squarespace Inc/Squarespace 6//v6//EN
BEGIN:VEVENT
UID:5a2082ade2c483d7912f5d40@squarespace.com
DTSTAMP:20171130T221453Z
DTSTART:20171228T193000Z
DTEND:20171228T203000Z
SUMMARY:Otematata Library - Open
END:VEVENT
END:VCALENDAR
