BEGIN:VCALENDAR
VERSION:2.0
PRODID:-//Squarespace Inc/Squarespace 6//v6//EN
BEGIN:VEVENT
UID:5a29a4d09140b762938e5da8@squarespace.com
DTSTAMP:20171207T203321Z
DTSTART:20171228T150000Z
DTEND:20171228T220000Z
SUMMARY:Omarama Rodeo
END:VEVENT
END:VCALENDAR
