BEGIN:VCALENDAR
VERSION:2.0
PRODID:-//Squarespace Inc/Squarespace 6//v6//EN
BEGIN:VEVENT
UID:5a32d8940d9297fc5cdd3c39@squarespace.com
DTSTAMP:20171214T200454Z
DTSTART:20171228T160000Z
DTEND:20171228T230000Z
SUMMARY:Blackheart Cup - Annual Cricket Match Otematata
END:VEVENT
END:VCALENDAR
