BEGIN:VCALENDAR
VERSION:2.0
PRODID:-//Squarespace Inc/Squarespace 6//v6//EN
BEGIN:VEVENT
UID:5a1c94819140b7c3066906c9@squarespace.com
DTSTAMP:20171127T224458Z
DTSTART:20171226T150000Z
DTEND:20180107T213000Z
SUMMARY:Art Exhibit: Maree White
END:VEVENT
END:VCALENDAR
