BEGIN:VCALENDAR
VERSION:2.0
PRODID:-//Squarespace Inc/Squarespace 6//v6//EN
BEGIN:VEVENT
UID:5a1f5896ec212d3c97f5bc16@squarespace.com
DTSTAMP:20171130T010321Z
DTSTART:20171225T001000Z
DTEND:20171225T011000Z
SUMMARY:Christmas Eve Church Service
END:VEVENT
END:VCALENDAR
