BEGIN:VCALENDAR
VERSION:2.0
PRODID:-//Squarespace Inc/Squarespace 6//v6//EN
BEGIN:VEVENT
UID:5a1f57fe53450a3d8ec135d8@squarespace.com
DTSTAMP:20171130T010206Z
DTSTART:20171225T010000Z
DTEND:20171225T020000Z
SUMMARY:Christmas Eve Church Service - St Albans
END:VEVENT
END:VCALENDAR
