BEGIN:VCALENDAR
VERSION:2.0
PRODID:-//Squarespace Inc/Squarespace 6//v6//EN
BEGIN:VEVENT
UID:5a1f58e1419202aafc803834@squarespace.com
DTSTAMP:20171130T010526Z
DTSTART:20171225T150000Z
DTEND:20171225T160000Z
SUMMARY:Christmas Day Church Service - St Stephen's
END:VEVENT
END:VCALENDAR
