BEGIN:VCALENDAR
VERSION:2.0
PRODID:-//Squarespace Inc/Squarespace 6//v6//EN
BEGIN:VEVENT
UID:5782af6659cc687a7d686187@squarespace.com
DTSTAMP:20160710T202945Z
DTSTART:20160809T000000Z
DTEND:20160809T020000Z
SUMMARY:Kurow Kruisers AGM
END:VEVENT
END:VCALENDAR
