BEGIN:VCALENDAR
VERSION:2.0
PRODID:-//Squarespace Inc/Squarespace 6//v6//EN
BEGIN:VEVENT
UID:5782aa6dd1758e9af40e9d16@squarespace.com
DTSTAMP:20160710T200701Z
DTSTART:20160729T203000Z
DTEND:20160731T213000Z
SUMMARY:  Last Day for non perishable foodstuffs donation
END:VEVENT
END:VCALENDAR
