BEGIN:VCALENDAR
VERSION:2.0
PRODID:-//Squarespace Inc/Squarespace 6//v6//EN
BEGIN:VEVENT
UID:5782a9b2be6594c387f48415@squarespace.com
DTSTAMP:20160710T200440Z
DTSTART:20160728T203000Z
DTEND:20160728T213000Z
SUMMARY:What is Dyslexia Information Evening
END:VEVENT
END:VCALENDAR
