BEGIN:VCALENDAR
VERSION:2.0
PRODID:-//Squarespace Inc/Squarespace 6//v6//EN
BEGIN:VEVENT
UID:5782a68c5016e19ee3ce4e69@squarespace.com
DTSTAMP:20160714T030153Z
DTSTART:20160721T173000Z
DTEND:20160721T190000Z
SUMMARY:Movie at Whalan Lodge
END:VEVENT
END:VCALENDAR
