BEGIN:VCALENDAR
VERSION:2.0
PRODID:-//Squarespace Inc/Squarespace 6//v6//EN
BEGIN:VEVENT
UID:5782a5ad2e69cfb0b306d7da@squarespace.com
DTSTAMP:20160710T194810Z
DTSTART:20160720T140000Z
DTEND:20160720T190000Z
SUMMARY:Beef and Lamb Farm Safety Management System Seminar
END:VEVENT
END:VCALENDAR
