BEGIN:VCALENDAR
VERSION:2.0
PRODID:-//Squarespace Inc/Squarespace 6//v6//EN
BEGIN:VEVENT
UID:57829ff3e4fcb5fc319bdac0@squarespace.com
DTSTAMP:20160710T192348Z
DTSTART:20160715T193000Z
DTEND:20160715T203000Z
SUMMARY:Traditional Mexican Food at the Valley Cafe
END:VEVENT
END:VCALENDAR
