BEGIN:VCALENDAR
VERSION:2.0
PRODID:-//Squarespace Inc/Squarespace 6//v6//EN
BEGIN:VEVENT
UID:57829f2a893fc04f81752151@squarespace.com
DTSTAMP:20160710T195536Z
DTSTART:20160715T173000Z
DTEND:20160715T183000Z
SUMMARY:Movie at Whalan Lodge
END:VEVENT
END:VCALENDAR
