BEGIN:VCALENDAR
VERSION:2.0
PRODID:-//Squarespace Inc/Squarespace 6//v6//EN
BEGIN:VEVENT
UID:5782b806e3df288f28956801@squarespace.com
DTSTAMP:20160710T210829Z
DTSTART:20151217T223000Z
DTEND:20151217T233000Z
SUMMARY:Waitaki Valley Vehicle Trust a Reality
END:VEVENT
END:VCALENDAR
