BEGIN:VCALENDAR
VERSION:2.0
PRODID:-//Squarespace Inc/Squarespace 6//v6//EN
BEGIN:VEVENT
UID:5782b6b2d1758e9af40f01c9@squarespace.com
DTSTAMP:20160710T210919Z
DTSTART:20160223T220000Z
DTEND:20160223T230000Z
SUMMARY:Waitaki Valley Community Car Update
END:VEVENT
END:VCALENDAR
