BEGIN:VCALENDAR
VERSION:2.0
PRODID:-//Squarespace Inc/Squarespace 6//v6//EN
BEGIN:VEVENT
UID:5782a855c534a5d68f25e3c4@squarespace.com
DTSTAMP:20160714T030300Z
DTSTART:20160728T173000Z
DTEND:20160728T190000Z
SUMMARY:Movie at Whalan Lodge
END:VEVENT
END:VCALENDAR
